BEGIN:VCALENDAR
VERSION:2.0
PRODID:SchoolNow
CALSCALE:GREGORIAN
BEGIN:VEVENT
UID:0b5d96e8-d78a-11f0-99fe-0afffa1135cb
DTSTAMP:20251216T200022Z
SUMMARY:Supporting Your Child Through Worry and Stress Parent Night
URL;VALUE=URI:https://www.millercreeksd.org/vallecitoes/calendar/8822870/su
 pporting-your-child-through-worry-and-stress-parent-night
DTSTART:20260116T013000Z
DTEND:20260116T023000Z
END:VEVENT
END:VCALENDAR
