BEGIN:VCALENDAR
VERSION:2.0
PRODID:SchoolNow
CALSCALE:GREGORIAN
BEGIN:VEVENT
UID:b86d68d6-c998-11f0-a7db-0a58a9feac02
DTSTAMP:20251216T200022Z
SUMMARY:Assembly-Guide Dogs (HOLD)
URL;VALUE=URI:https://www.millercreeksd.org/vallecitoes/calendar/8809337/as
 sembly-guide-dogs-hold
DTSTART:20260424T153000Z
DTEND:20260424T163000Z
END:VEVENT
END:VCALENDAR
