BEGIN:VCALENDAR
VERSION:2.0
PRODID:SchoolNow
CALSCALE:GREGORIAN
BEGIN:VEVENT
UID:83b4bab6-b9dc-11f0-8e89-0a58a9feac02
DTSTAMP:20251216T200022Z
SUMMARY:Ruby Bridges-Walk and Roll: Safe Routes
URL;VALUE=URI:https://www.millercreeksd.org/vallecitoes/calendar/8777686/ru
 by-bridges-walk-and-roll-safe-routes
DTSTART;VALUE=DATE:20251114
DTEND;VALUE=DATE:20251115
END:VEVENT
END:VCALENDAR
