BEGIN:VCALENDAR
VERSION:2.0
PRODID:SchoolNow
CALSCALE:GREGORIAN
BEGIN:VEVENT
UID:8bd171d8-b943-11f0-90d2-0a58a9feac02
DTSTAMP:20251216T200022Z
SUMMARY:Assembly: Bay Area International Deaf Dance Group
URL;VALUE=URI:https://www.millercreeksd.org/vallecitoes/calendar/8775064/as
 sembly-bay-area-international-deaf-dance-group
DTSTART:20260227T163000Z
DTEND:20260227T173000Z
END:VEVENT
END:VCALENDAR
