BEGIN:VCALENDAR
VERSION:2.0
PRODID:SchoolNow
CALSCALE:GREGORIAN
BEGIN:VEVENT
UID:029793f8-afe7-11f0-9b23-0e504942c541
DTSTAMP:20251216T200022Z
SUMMARY:Halloween Parade
URL;VALUE=URI:https://www.millercreeksd.org/vallecitoes/calendar/8744378/ha
 lloween-parade
DTSTART:20251031T153000Z
DTEND:20251031T163000Z
END:VEVENT
END:VCALENDAR
