BEGIN:VCALENDAR
VERSION:2.0
PRODID:SchoolNow
CALSCALE:GREGORIAN
BEGIN:VEVENT
UID:c09bf488-a00c-11f0-8751-0a58a9feac02
DTSTAMP:20251216T200022Z
SUMMARY:Parent Visitation Day
URL;VALUE=URI:https://www.millercreeksd.org/vallecitoes/calendar/8690014/pa
 rent-visitation-day
DTSTART:20260127T170000Z
DTEND:20260127T180000Z
END:VEVENT
END:VCALENDAR
