BEGIN:VCALENDAR
VERSION:2.0
PRODID:SchoolNow
CALSCALE:GREGORIAN
BEGIN:VEVENT
UID:db0015d8-9815-11f0-b3a2-0a58a9feac02
DTSTAMP:20251216T200022Z
SUMMARY:Better Together Week
URL;VALUE=URI:https://www.millercreeksd.org/vallecitoes/calendar/8654471/be
 tter-together-week
DTSTART;VALUE=DATE:20251020
DTEND;VALUE=DATE:20251025
END:VEVENT
END:VCALENDAR
