BEGIN:VCALENDAR
VERSION:2.0
PRODID:SchoolNow
CALSCALE:GREGORIAN
BEGIN:VEVENT
UID:ddaba9ce-97e2-11f0-a8f1-0a58a9feac02
DTSTAMP:20251216T200022Z
SUMMARY:Lawrence Hall of Science Event
URL;VALUE=URI:https://www.millercreeksd.org/vallecitoes/calendar/8653197/la
 wrence-hall-of-science-event
DTSTART:20260109T013000Z
DTEND:20260109T023000Z
END:VEVENT
END:VCALENDAR
