BEGIN:VCALENDAR
VERSION:2.0
PRODID:SchoolNow
CALSCALE:GREGORIAN
BEGIN:VEVENT
UID:f71eed8a-95e4-11f0-9ebe-0a58a9feac02
DTSTAMP:20251216T200022Z
SUMMARY:Hispanic Heritage Celebration
LOCATION:Miller Creek Middle School\, 2255 Las Gallinas Ave\, San Rafael\, 
 CA 94903\, USA
URL;VALUE=URI:https://www.millercreeksd.org/vallecitoes/calendar/8645866/hi
 spanic-heritage-celebration
DTSTART:20250927T003000Z
DTEND:20250927T023000Z
END:VEVENT
END:VCALENDAR
