BEGIN:VCALENDAR
VERSION:2.0
PRODID:SchoolNow
CALSCALE:GREGORIAN
BEGIN:VEVENT
UID:049076e6-94e6-11f0-b905-0e5c866ee4d1
DTSTAMP:20251216T200022Z
SUMMARY:DELAC / Val Staff Room
URL;VALUE=URI:https://www.millercreeksd.org/vallecitoes/calendar/8639441/de
 lac-val-staff-room
DTSTART:20251010T010000Z
DTEND:20251010T023000Z
END:VEVENT
END:VCALENDAR
