BEGIN:VCALENDAR
VERSION:2.0
PRODID:SchoolNow
CALSCALE:GREGORIAN
BEGIN:VEVENT
UID:0730dbda-94b3-11f0-bdef-0e0e4ced205b
DTSTAMP:20251216T200022Z
SUMMARY:Walker Creek Zoom
URL;VALUE=URI:https://www.millercreeksd.org/vallecitoes/calendar/8637042/wa
 lker-creek-zoom
DTSTART:20250919T003000Z
DTEND:20250919T013000Z
END:VEVENT
END:VCALENDAR
