BEGIN:VCALENDAR
VERSION:2.0
PRODID:SchoolNow
CALSCALE:GREGORIAN
BEGIN:VEVENT
UID:0bfbe1c0-944d-11f0-a87d-0e7cf99b5e19
DTSTAMP:20251216T200022Z
SUMMARY:Kona Ice
URL;VALUE=URI:https://www.millercreeksd.org/vallecitoes/calendar/8635393/ko
 na-ice
DTSTART:20250919T213000Z
DTEND:20250919T223000Z
END:VEVENT
END:VCALENDAR
