BEGIN:VCALENDAR
VERSION:2.0
PRODID:SchoolNow
CALSCALE:GREGORIAN
BEGIN:VEVENT
UID:0ec760a6-941a-11f0-8a48-02686ea21d4b
DTSTAMP:20251216T200022Z
SUMMARY:Campus Beautification Day
URL;VALUE=URI:https://www.millercreeksd.org/vallecitoes/calendar/8634411/ca
 mpus-beautification-day
DTSTART;VALUE=DATE:20251005
DTEND;VALUE=DATE:20251006
END:VEVENT
END:VCALENDAR
