BEGIN:VCALENDAR
VERSION:2.0
PRODID:SchoolNow
CALSCALE:GREGORIAN
BEGIN:VEVENT
UID:18e0b9c4-934e-11f0-b6b6-0a58a9feac02
DTSTAMP:20251216T200022Z
SUMMARY:Veterans Day\, No School
URL;VALUE=URI:https://www.millercreeksd.org/vallecitoes/calendar/8630399/ve
 terans-day-no-school
DTSTART;VALUE=DATE:20251111
DTEND;VALUE=DATE:20251112
END:VEVENT
END:VCALENDAR
