BEGIN:VCALENDAR
VERSION:2.0
PRODID:SchoolNow
CALSCALE:GREGORIAN
BEGIN:VEVENT
UID:18e0b8de-934e-11f0-ab3b-0a58a9feac02
DTSTAMP:20251216T200022Z
SUMMARY:Walker Creek/5th Grade
URL;VALUE=URI:https://www.millercreeksd.org/vallecitoes/calendar/8630398/wa
 lker-creek-5th-grade
DTSTART;VALUE=DATE:20251028
DTEND;VALUE=DATE:20251101
END:VEVENT
END:VCALENDAR
