BEGIN:VCALENDAR
VERSION:2.0
PRODID:SchoolNow
CALSCALE:GREGORIAN
BEGIN:VEVENT
UID:18e0b7f8-934e-11f0-bc41-0a58a9feac02
DTSTAMP:20251216T200022Z
SUMMARY:Spring Break
URL;VALUE=URI:https://www.millercreeksd.org/vallecitoes/calendar/8630397/sp
 ring-break
DTSTART;VALUE=DATE:20260406
DTEND;VALUE=DATE:20260411
END:VEVENT
END:VCALENDAR
