BEGIN:VCALENDAR
VERSION:2.0
PRODID:SchoolNow
CALSCALE:GREGORIAN
BEGIN:VEVENT
UID:18e0b712-934e-11f0-b96f-0a58a9feac02
DTSTAMP:20251216T200022Z
SUMMARY:Professional Development Day / Non Student Day
URL;VALUE=URI:https://www.millercreeksd.org/vallecitoes/calendar/8630396/pr
 ofessional-development-day-non-student-day
DTSTART;VALUE=DATE:20260313
DTEND;VALUE=DATE:20260314
END:VEVENT
END:VCALENDAR
