BEGIN:VCALENDAR
VERSION:2.0
PRODID:SchoolNow
CALSCALE:GREGORIAN
BEGIN:VEVENT
UID:18e0b62c-934e-11f0-b15c-0a58a9feac02
DTSTAMP:20251216T200022Z
SUMMARY:Mid Winter Break
URL;VALUE=URI:https://www.millercreeksd.org/vallecitoes/calendar/8630395/mi
 d-winter-break
DTSTART;VALUE=DATE:20260216
DTEND;VALUE=DATE:20260221
END:VEVENT
END:VCALENDAR
