BEGIN:VCALENDAR
VERSION:2.0
PRODID:SchoolNow
CALSCALE:GREGORIAN
BEGIN:VEVENT
UID:18e0b53c-934e-11f0-bb0b-0a58a9feac02
DTSTAMP:20251216T200022Z
SUMMARY:Winter Recess
URL;VALUE=URI:https://www.millercreeksd.org/vallecitoes/calendar/8630394/wi
 nter-recess
DTSTART;VALUE=DATE:20251222
DTEND;VALUE=DATE:20260103
END:VEVENT
END:VCALENDAR
