BEGIN:VCALENDAR
VERSION:2.0
PRODID:SchoolNow
CALSCALE:GREGORIAN
BEGIN:VEVENT
UID:18e0b438-934e-11f0-9f72-0a58a9feac02
DTSTAMP:20251216T200022Z
SUMMARY:Thanksgiving Recess / No School
URL;VALUE=URI:https://www.millercreeksd.org/vallecitoes/calendar/8630393/th
 anksgiving-recess-no-school
DTSTART;VALUE=DATE:20251124
DTEND;VALUE=DATE:20251129
END:VEVENT
END:VCALENDAR
