BEGIN:VCALENDAR
VERSION:2.0
PRODID:SchoolNow
CALSCALE:GREGORIAN
BEGIN:VEVENT
UID:18e0b30c-934e-11f0-9801-0a58a9feac02
DTSTAMP:20251216T200022Z
SUMMARY:Full Conference Day / Non Student Day
URL;VALUE=URI:https://www.millercreeksd.org/vallecitoes/calendar/8630392/fu
 ll-conference-day-non-student-day
DTSTART;VALUE=DATE:20251121
DTEND;VALUE=DATE:20251122
END:VEVENT
END:VCALENDAR
