BEGIN:VCALENDAR
VERSION:2.0
PRODID:SchoolNow
CALSCALE:GREGORIAN
BEGIN:VEVENT
UID:18e0b082-934e-11f0-bc88-0a58a9feac02
DTSTAMP:20251216T200022Z
SUMMARY:Conference week - 1:25 p.m. dismissal
URL;VALUE=URI:https://www.millercreeksd.org/vallecitoes/calendar/8630391/co
 nference-week-1-25-p-m-dismissal
DTSTART;VALUE=DATE:20251117
DTEND;VALUE=DATE:20251121
END:VEVENT
END:VCALENDAR
