BEGIN:VCALENDAR
VERSION:2.0
PRODID:SchoolNow
CALSCALE:GREGORIAN
BEGIN:VEVENT
UID:18e0683e-934e-11f0-ab55-0a58a9feac02
DTSTAMP:20251216T200022Z
SUMMARY:Professional Development Day - Non Student Day
URL;VALUE=URI:https://www.millercreeksd.org/vallecitoes/calendar/8630390/pr
 ofessional-development-day-non-student-day
DTSTART;VALUE=DATE:20251013
DTEND;VALUE=DATE:20251014
END:VEVENT
END:VCALENDAR
