BEGIN:VCALENDAR
VERSION:2.0
PRODID:SchoolNow
CALSCALE:GREGORIAN
BEGIN:VEVENT
UID:205f0226-92b5-11f0-b63b-0a58a9feac02
DTSTAMP:20251216T200022Z
SUMMARY:HSC meeting/staff room
URL;VALUE=URI:https://www.millercreeksd.org/vallecitoes/calendar/8627233/hs
 c-meeting-staff-room
DTSTART:20270514T153500Z
DTEND:20270514T163500Z
END:VEVENT
END:VCALENDAR
