BEGIN:VCALENDAR
VERSION:2.0
PRODID:SchoolNow
CALSCALE:GREGORIAN
BEGIN:VEVENT
UID:205efae2-92b5-11f0-a763-0a58a9feac02
DTSTAMP:20251216T200022Z
SUMMARY:Safe Routes Task Force
URL;VALUE=URI:https://www.millercreeksd.org/vallecitoes/calendar/8627232/sa
 fe-routes-task-force
DTSTART:20250922T230000Z
DTEND:20250923T000000Z
END:VEVENT
END:VCALENDAR
