BEGIN:VCALENDAR
VERSION:2.0
PRODID:SchoolNow
CALSCALE:GREGORIAN
BEGIN:VEVENT
UID:380a8a84-90ea-11f0-bd11-0e70b80f754f
DTSTAMP:20251216T200022Z
SUMMARY:Life Skill Assembly
URL;VALUE=URI:https://www.millercreeksd.org/vallecitoes/calendar/8619386/li
 fe-skill-assembly
DTSTART:20270507T153000Z
DTEND:20270507T160000Z
END:VEVENT
END:VCALENDAR
