BEGIN:VCALENDAR
VERSION:2.0
PRODID:SchoolNow
CALSCALE:GREGORIAN
BEGIN:VEVENT
UID:8494f1a8-852a-11f0-847b-02df2cd0bf97
DTSTAMP:20251216T200022Z
SUMMARY:HSC meeting/staff room
URL;VALUE=URI:https://www.millercreeksd.org/vallecitoes/calendar/8559758/hs
 c-meeting-staff-room
DTSTART:20270312T163500Z
DTEND:20270312T173500Z
END:VEVENT
END:VCALENDAR
