BEGIN:VCALENDAR
VERSION:2.0
PRODID:SchoolNow
CALSCALE:GREGORIAN
BEGIN:VEVENT
UID:845b38be-852a-11f0-84f6-02df2cd0bf97
DTSTAMP:20251216T200022Z
SUMMARY:HSC meeting/staff room
URL;VALUE=URI:https://www.millercreeksd.org/vallecitoes/calendar/8559752/hs
 c-meeting-staff-room
DTSTART:20260911T153500Z
DTEND:20260911T163500Z
END:VEVENT
END:VCALENDAR
