BEGIN:VCALENDAR
VERSION:2.0
PRODID:SchoolNow
CALSCALE:GREGORIAN
BEGIN:VEVENT
UID:845b37d8-852a-11f0-bbdf-02df2cd0bf97
DTSTAMP:20251216T200022Z
SUMMARY:HSC meeting/staff room
URL;VALUE=URI:https://www.millercreeksd.org/vallecitoes/calendar/8559751/hs
 c-meeting-staff-room
DTSTART:20260814T153500Z
DTEND:20260814T163500Z
END:VEVENT
END:VCALENDAR
