BEGIN:VCALENDAR
VERSION:2.0
PRODID:SchoolNow
CALSCALE:GREGORIAN
BEGIN:VEVENT
UID:845b3706-852a-11f0-9d7c-02df2cd0bf97
DTSTAMP:20251216T200022Z
SUMMARY:HSC meeting/staff room
URL;VALUE=URI:https://www.millercreeksd.org/vallecitoes/calendar/8559750/hs
 c-meeting-staff-room
DTSTART:20260710T153500Z
DTEND:20260710T163500Z
END:VEVENT
END:VCALENDAR
