BEGIN:VCALENDAR
VERSION:2.0
PRODID:SchoolNow
CALSCALE:GREGORIAN
BEGIN:VEVENT
UID:845b3544-852a-11f0-8b4e-02df2cd0bf97
DTSTAMP:20251216T200022Z
SUMMARY:HSC meeting/staff room
URL;VALUE=URI:https://www.millercreeksd.org/vallecitoes/calendar/8559748/hs
 c-meeting-staff-room
DTSTART:20260508T153500Z
DTEND:20260508T163500Z
END:VEVENT
END:VCALENDAR
