BEGIN:VCALENDAR
VERSION:2.0
PRODID:SchoolNow
CALSCALE:GREGORIAN
BEGIN:VEVENT
UID:845b32b0-852a-11f0-8098-02df2cd0bf97
DTSTAMP:20251216T200022Z
SUMMARY:HSC meeting/staff room
URL;VALUE=URI:https://www.millercreeksd.org/vallecitoes/calendar/8559745/hs
 c-meeting-staff-room
DTSTART:20260213T163500Z
DTEND:20260213T173500Z
END:VEVENT
END:VCALENDAR
