BEGIN:VCALENDAR
VERSION:2.0
PRODID:SchoolNow
CALSCALE:GREGORIAN
BEGIN:VEVENT
UID:845b3012-852a-11f0-a413-02df2cd0bf97
DTSTAMP:20251216T200022Z
SUMMARY:HSC meeting/staff room
URL;VALUE=URI:https://www.millercreeksd.org/vallecitoes/calendar/8559742/hs
 c-meeting-staff-room
DTSTART:20251114T163500Z
DTEND:20251114T173500Z
END:VEVENT
END:VCALENDAR
