BEGIN:VCALENDAR
VERSION:2.0
PRODID:SchoolNow
CALSCALE:GREGORIAN
BEGIN:VEVENT
UID:3ff16c14-845f-11f0-b4cc-0a58a9feac02
DTSTAMP:20251216T200022Z
SUMMARY:Fall Festival
URL;VALUE=URI:https://www.millercreeksd.org/vallecitoes/calendar/8555751/fa
 ll-festival
DTSTART;VALUE=DATE:20251025
DTEND;VALUE=DATE:20251026
END:VEVENT
END:VCALENDAR
