BEGIN:VCALENDAR
VERSION:2.0
PRODID:SchoolNow
CALSCALE:GREGORIAN
BEGIN:VEVENT
UID:e8fe7b4e-7f32-11f0-9c59-0a58a9feac02
DTSTAMP:20251216T200022Z
SUMMARY:Safe Routes Student/Parent Survey
URL;VALUE=URI:https://www.millercreeksd.org/vallecitoes/calendar/8531643/sa
 fe-routes-student-parent-survey
DTSTART;VALUE=DATE:20250916
DTEND;VALUE=DATE:20250919
END:VEVENT
END:VCALENDAR
