BEGIN:VCALENDAR
VERSION:2.0
PRODID:SchoolNow
CALSCALE:GREGORIAN
BEGIN:VEVENT
UID:eb4fe23a-7eff-11f0-9157-0a58a9feac02
DTSTAMP:20251216T200022Z
SUMMARY:Ice Cream Social
URL;VALUE=URI:https://www.millercreeksd.org/vallecitoes/calendar/8531097/ic
 e-cream-social
DTSTART:20250904T003000Z
DTEND:20250904T020000Z
END:VEVENT
END:VCALENDAR
