BEGIN:VCALENDAR
VERSION:2.0
PRODID:SchoolNow
CALSCALE:GREGORIAN
BEGIN:VEVENT
UID:2f2bf21e-73d9-11f0-8b8b-0a58a9feac02
DTSTAMP:20251216T200022Z
SUMMARY:Principal/Superintendent Coffee Chat
URL;VALUE=URI:https://www.millercreeksd.org/vallecitoes/calendar/8480602/pr
 incipal-superintendent-coffee-chat
DTSTART:20260123T163000Z
DTEND:20260123T171500Z
END:VEVENT
END:VCALENDAR
