BEGIN:VCALENDAR
VERSION:2.0
PRODID:SchoolNow
CALSCALE:GREGORIAN
BEGIN:VEVENT
UID:3752f4fe-7340-11f0-9480-02259504ac11
DTSTAMP:20251216T200022Z
SUMMARY:Life Skill Assembly
URL;VALUE=URI:https://www.millercreeksd.org/vallecitoes/calendar/8477972/li
 fe-skill-assembly
DTSTART:20270402T153000Z
DTEND:20270402T160000Z
END:VEVENT
END:VCALENDAR
