BEGIN:VCALENDAR
VERSION:2.0
PRODID:SchoolNow
CALSCALE:GREGORIAN
BEGIN:VEVENT
UID:3752f206-7340-11f0-bf8a-02259504ac11
DTSTAMP:20251216T200022Z
SUMMARY:Spring Concert (3rd\, 4th\, 5th Grade)
URL;VALUE=URI:https://www.millercreeksd.org/vallecitoes/calendar/8477971/sp
 ring-concert-3rd-4th-5th-grade
DTSTART:20260416T204500Z
DTEND:20260416T213000Z
END:VEVENT
END:VCALENDAR
