BEGIN:VCALENDAR
VERSION:2.0
PRODID:SchoolNow
CALSCALE:GREGORIAN
BEGIN:VEVENT
UID:3752f080-7340-11f0-816d-02259504ac11
DTSTAMP:20251216T200022Z
SUMMARY:Music Choice Demo (3rd and 4th Grade)
URL;VALUE=URI:https://www.millercreeksd.org/vallecitoes/calendar/8477970/mu
 sic-choice-demo-3rd-and-4th-grade
DTSTART:20260319T204500Z
DTEND:20260319T213000Z
END:VEVENT
END:VCALENDAR
