BEGIN:VCALENDAR
VERSION:2.0
PRODID:SchoolNow
CALSCALE:GREGORIAN
BEGIN:VEVENT
UID:3752d104-7340-11f0-80d1-02259504ac11
DTSTAMP:20251216T200022Z
SUMMARY:Winter Concert (3rd- 5th Grade)
URL;VALUE=URI:https://www.millercreeksd.org/vallecitoes/calendar/8477969/wi
 nter-concert-3rd-5th-grade
DTSTART:20260129T214500Z
DTEND:20260129T223000Z
END:VEVENT
END:VCALENDAR
