BEGIN:VCALENDAR
VERSION:2.0
PRODID:SchoolNow
CALSCALE:GREGORIAN
BEGIN:VEVENT
UID:7f7d5da6-61ba-11f0-9ec4-0a58a9feac02
DTSTAMP:20251216T200022Z
SUMMARY:Life Skill Assembly
URL;VALUE=URI:https://www.millercreeksd.org/vallecitoes/calendar/8417505/li
 fe-skill-assembly
DTSTART:20270305T163000Z
DTEND:20270305T170000Z
END:VEVENT
END:VCALENDAR
