BEGIN:VCALENDAR
VERSION:2.0
PRODID:SchoolNow
CALSCALE:GREGORIAN
BEGIN:VEVENT
UID:f7ba6024-4c9e-11f0-b6ae-0a58a9feac02
DTSTAMP:20251216T200022Z
SUMMARY:Book Fair (11/17-11/20)/Family Night Kickoff 11/17
URL;VALUE=URI:https://www.millercreeksd.org/vallecitoes/calendar/8325904/bo
 ok-fair-11-17-11-20-family-night-kickoff-11-17
DTSTART;VALUE=DATE:20251117
DTEND;VALUE=DATE:20251118
END:VEVENT
END:VCALENDAR
