BEGIN:VCALENDAR
VERSION:2.0
PRODID:SchoolNow
CALSCALE:GREGORIAN
BEGIN:VEVENT
UID:3d0b58c4-473e-11f0-bbfc-0a58a9feac02
DTSTAMP:20251216T200022Z
SUMMARY:Life Skill Assembly
URL;VALUE=URI:https://www.millercreeksd.org/vallecitoes/calendar/8289576/li
 fe-skill-assembly
DTSTART:20270205T163000Z
DTEND:20270205T170000Z
END:VEVENT
END:VCALENDAR
