BEGIN:VCALENDAR
VERSION:2.0
PRODID:SchoolNow
CALSCALE:GREGORIAN
BEGIN:VEVENT
UID:3d0b2cd2-473e-11f0-b3a0-0a58a9feac02
DTSTAMP:20251216T200022Z
SUMMARY:TK/K Meet the Teacher
URL;VALUE=URI:https://www.millercreeksd.org/vallecitoes/calendar/8289574/tk
 -k-meet-the-teacher
DTSTART:20250819T180000Z
DTEND:20250819T190000Z
END:VEVENT
END:VCALENDAR
