BEGIN:VCALENDAR
VERSION:2.0
PRODID:SchoolNow
CALSCALE:GREGORIAN
BEGIN:VEVENT
UID:713ad17c-2f8a-11f0-ba38-025e36ebb0a1
DTSTAMP:20251216T200022Z
SUMMARY:Life Skill Assembly
URL;VALUE=URI:https://www.millercreeksd.org/vallecitoes/calendar/8121055/li
 fe-skill-assembly
DTSTART:20270101T163000Z
DTEND:20270101T170000Z
END:VEVENT
END:VCALENDAR
