BEGIN:VCALENDAR
VERSION:2.0
PRODID:SchoolNow
CALSCALE:GREGORIAN
BEGIN:VEVENT
UID:22e1935a-1bd3-11f0-a527-0a58a9feac02
DTSTAMP:20251216T200022Z
SUMMARY:Life Skill Assembly
URL;VALUE=URI:https://www.millercreeksd.org/vallecitoes/calendar/7947861/li
 fe-skill-assembly
DTSTART:20261204T163000Z
DTEND:20261204T170000Z
END:VEVENT
END:VCALENDAR
