BEGIN:VCALENDAR
VERSION:2.0
PRODID:SchoolNow
CALSCALE:GREGORIAN
BEGIN:VEVENT
UID:0f6117d8-09b3-11f0-a6a4-0a58a9feac02
DTSTAMP:20251216T200022Z
SUMMARY:6-8 Back to School Night
URL;VALUE=URI:https://www.millercreeksd.org/vallecitoes/calendar/7771220/6-
 8-back-to-school-night
DTSTART:20250829T010000Z
DTEND:20250829T020000Z
END:VEVENT
END:VCALENDAR
