BEGIN:VCALENDAR
VERSION:2.0
PRODID:SchoolNow
CALSCALE:GREGORIAN
BEGIN:VEVENT
UID:0f611620-09b3-11f0-b7e5-0a58a9feac02
DTSTAMP:20251216T200022Z
SUMMARY:TK-5 Back to School Night
URL;VALUE=URI:https://www.millercreeksd.org/vallecitoes/calendar/7771219/tk
 -5-back-to-school-night
DTSTART;VALUE=DATE:20250827
DTEND;VALUE=DATE:20250828
END:VEVENT
END:VCALENDAR
