BEGIN:VCALENDAR
VERSION:2.0
PRODID:SchoolNow
CALSCALE:GREGORIAN
BEGIN:VEVENT
UID:0f60eace-09b3-11f0-b3f7-0a58a9feac02
DTSTAMP:20251216T200022Z
SUMMARY:First Day of School
URL;VALUE=URI:https://www.millercreeksd.org/vallecitoes/calendar/7771218/fi
 rst-day-of-school
DTSTART;VALUE=DATE:20250820
DTEND;VALUE=DATE:20250821
END:VEVENT
END:VCALENDAR
